BEGIN:VCALENDAR
VERSION:2.0
PRODID:-//Tory Technologies, Inc - ECPv6.15.17.1//NONSGML v1.0//EN
CALSCALE:GREGORIAN
METHOD:PUBLISH
X-WR-CALNAME:Tory Technologies, Inc
X-ORIGINAL-URL:https://www.tory-tech.com/site
X-WR-CALDESC:Events for Tory Technologies, Inc
REFRESH-INTERVAL;VALUE=DURATION:PT1H
X-Robots-Tag:noindex
X-PUBLISHED-TTL:PT1H
BEGIN:VTIMEZONE
TZID:America/Chicago
BEGIN:DAYLIGHT
TZOFFSETFROM:-0600
TZOFFSETTO:-0500
TZNAME:CDT
DTSTART:20250309T080000
END:DAYLIGHT
BEGIN:STANDARD
TZOFFSETFROM:-0500
TZOFFSETTO:-0600
TZNAME:CST
DTSTART:20251102T070000
END:STANDARD
BEGIN:DAYLIGHT
TZOFFSETFROM:-0600
TZOFFSETTO:-0500
TZNAME:CDT
DTSTART:20260308T080000
END:DAYLIGHT
BEGIN:STANDARD
TZOFFSETFROM:-0500
TZOFFSETTO:-0600
TZNAME:CST
DTSTART:20261101T070000
END:STANDARD
BEGIN:DAYLIGHT
TZOFFSETFROM:-0600
TZOFFSETTO:-0500
TZNAME:CDT
DTSTART:20270314T080000
END:DAYLIGHT
BEGIN:STANDARD
TZOFFSETFROM:-0500
TZOFFSETTO:-0600
TZNAME:CST
DTSTART:20271107T070000
END:STANDARD
END:VTIMEZONE
BEGIN:VTIMEZONE
TZID:America/Chicago
BEGIN:DAYLIGHT
TZOFFSETFROM:-0600
TZOFFSETTO:-0500
TZNAME:CDT
DTSTART:20250309T080000
END:DAYLIGHT
BEGIN:STANDARD
TZOFFSETFROM:-0500
TZOFFSETTO:-0600
TZNAME:CST
DTSTART:20251102T070000
END:STANDARD
BEGIN:DAYLIGHT
TZOFFSETFROM:-0600
TZOFFSETTO:-0500
TZNAME:CDT
DTSTART:20260308T080000
END:DAYLIGHT
BEGIN:STANDARD
TZOFFSETFROM:-0500
TZOFFSETTO:-0600
TZNAME:CST
DTSTART:20261101T070000
END:STANDARD
BEGIN:DAYLIGHT
TZOFFSETFROM:-0600
TZOFFSETTO:-0500
TZNAME:CDT
DTSTART:20270314T080000
END:DAYLIGHT
BEGIN:STANDARD
TZOFFSETFROM:-0500
TZOFFSETTO:-0600
TZNAME:CST
DTSTART:20271107T070000
END:STANDARD
END:VTIMEZONE
BEGIN:VEVENT
DTSTART;VALUE=DATE:20260921
DTEND;VALUE=DATE:20260926
DTSTAMP:20260424T100318
CREATED:20251013T211853Z
LAST-MODIFIED:20251013T213432Z
UID:4822-1789948800-1790380799@www.tory-tech.com
SUMMARY:16th International Pipeline Conference
DESCRIPTION:Tory Technologies will be attending the 16th International Pipeline Conference in Calgary\, Canada from September 21 to September 25\, 2026.
URL:https://www.tory-tech.com/site/event/2026-ipce/
LOCATION:BMO Centre\, 1912 Flores Ladue Parade SE\, Calgary\, Alberta\, AB T2G 2W1\, Canada
CATEGORIES:Exhibiting
END:VEVENT
BEGIN:VEVENT
DTSTART;VALUE=DATE:20261007
DTEND;VALUE=DATE:20261009
DTSTAMP:20260424T100318
CREATED:20260119T182019Z
LAST-MODIFIED:20260320T185759Z
UID:4970-1791331200-1791503999@www.tory-tech.com
SUMMARY:The Tory Users Summit 2026
DESCRIPTION:Tory Technologies is excited to welcome you back for our second in‑person Tory Users Summit — a unique event designed to bring our community together like never before. \nThis year\, we’re building on the success of our inaugural gathering by bringing users\, experts\, and industry leaders into one shared space to explore the future of MaCRoM\, COSMOS\, and the rapidly evolving world of Tory-Tech. Join us for two immersive days featuring keynote presentations\, hands-on courses\, exclusive product demos\, and deep-dive sessions that highlight brand new capabilities and upcoming innovations. \nStrengthen your expertise\, connect with peers\, and gain an insider’s view of what’s next for Tory Technologies at the Tory Users Summit 2026. \n\nTo reserve a room at The Moran Hotel\, please click here. \nStay tuned for the full agenda!
URL:https://www.tory-tech.com/site/event/the-tory-users-summit-2026/
LOCATION:The Moran Hotel\, 800 Sorella Ct\, Houston\, TX\, 77024\, United States
CATEGORIES:Hosting
ATTACH;FMTTYPE=image/png:https://www.tory-tech.com/site/wp-content/uploads/2026/01/TUS-Email-Banner-.png
ORGANIZER;CN="Tory Technologies%2C Inc.":MAILTO:info@tory-tech.com
END:VEVENT
END:VCALENDAR